BEGIN:VCALENDAR
VERSION:2.0
PRODID:-//Dallas Fort Worth Nonprofit Business Journal - ECPv6.15.20//NONSGML v1.0//EN
CALSCALE:GREGORIAN
METHOD:PUBLISH
X-WR-CALNAME:Dallas Fort Worth Nonprofit Business Journal
X-ORIGINAL-URL:https://dfw501c.com
X-WR-CALDESC:Events for Dallas Fort Worth Nonprofit Business Journal
REFRESH-INTERVAL;VALUE=DURATION:PT1H
X-Robots-Tag:noindex
X-PUBLISHED-TTL:PT1H
BEGIN:VTIMEZONE
TZID:America/Chicago
BEGIN:DAYLIGHT
TZOFFSETFROM:-0600
TZOFFSETTO:-0500
TZNAME:CDT
DTSTART:20240310T080000
END:DAYLIGHT
BEGIN:STANDARD
TZOFFSETFROM:-0500
TZOFFSETTO:-0600
TZNAME:CST
DTSTART:20241103T070000
END:STANDARD
BEGIN:DAYLIGHT
TZOFFSETFROM:-0600
TZOFFSETTO:-0500
TZNAME:CDT
DTSTART:20250309T080000
END:DAYLIGHT
BEGIN:STANDARD
TZOFFSETFROM:-0500
TZOFFSETTO:-0600
TZNAME:CST
DTSTART:20251102T070000
END:STANDARD
BEGIN:DAYLIGHT
TZOFFSETFROM:-0600
TZOFFSETTO:-0500
TZNAME:CDT
DTSTART:20260308T080000
END:DAYLIGHT
BEGIN:STANDARD
TZOFFSETFROM:-0500
TZOFFSETTO:-0600
TZNAME:CST
DTSTART:20261101T070000
END:STANDARD
END:VTIMEZONE
BEGIN:VEVENT
DTSTART;TZID=America/Chicago:20250529T120000
DTEND;TZID=America/Chicago:20250529T130000
DTSTAMP:20260419T224215
CREATED:20250612T145357Z
LAST-MODIFIED:20250612T145357Z
UID:33640-1748520000-1748523600@dfw501c.com
SUMMARY:Understanding Alzheimer's: Biomarkers\, Testing\, and Diagnoses
DESCRIPTION:Free Zoom Webinar\nUnderstanding Alzheimer’s: Biomarkers\, Testing\, and Diagnoses \nJoin us for an informative session on the latest developments in Alzheimer’s research. This webinar will explain what biomarkers are\, how testing is done\, and how these tools help in diagnosing Alzheimer’s disease. Learn how early detection is changing the way we approach care and treatment. \nA great resource for caregivers\, healthcare professionals\, and anyone interested in brain health!
URL:https://dfw501c.com/event/understanding-alzheimers-biomarkers-testing-and-diagnoses/
LOCATION:Virtual Online\, 8150 North Central Expressway\, Suite 110\, Dallas\, TX\, 75206
END:VEVENT
END:VCALENDAR