BEGIN:VCALENDAR
VERSION:2.0
PRODID:-//Dallas Fort Worth Nonprofit Business Journal - ECPv6.15.20//NONSGML v1.0//EN
CALSCALE:GREGORIAN
METHOD:PUBLISH
X-WR-CALNAME:Dallas Fort Worth Nonprofit Business Journal
X-ORIGINAL-URL:https://dfw501c.com
X-WR-CALDESC:Events for Dallas Fort Worth Nonprofit Business Journal
REFRESH-INTERVAL;VALUE=DURATION:PT1H
X-Robots-Tag:noindex
X-PUBLISHED-TTL:PT1H
BEGIN:VTIMEZONE
TZID:America/Chicago
BEGIN:DAYLIGHT
TZOFFSETFROM:-0600
TZOFFSETTO:-0500
TZNAME:CDT
DTSTART:20250309T080000
END:DAYLIGHT
BEGIN:STANDARD
TZOFFSETFROM:-0500
TZOFFSETTO:-0600
TZNAME:CST
DTSTART:20251102T070000
END:STANDARD
BEGIN:DAYLIGHT
TZOFFSETFROM:-0600
TZOFFSETTO:-0500
TZNAME:CDT
DTSTART:20260308T080000
END:DAYLIGHT
BEGIN:STANDARD
TZOFFSETFROM:-0500
TZOFFSETTO:-0600
TZNAME:CST
DTSTART:20261101T070000
END:STANDARD
BEGIN:DAYLIGHT
TZOFFSETFROM:-0600
TZOFFSETTO:-0500
TZNAME:CDT
DTSTART:20270314T080000
END:DAYLIGHT
BEGIN:STANDARD
TZOFFSETFROM:-0500
TZOFFSETTO:-0600
TZNAME:CST
DTSTART:20271107T070000
END:STANDARD
END:VTIMEZONE
BEGIN:VEVENT
DTSTART;TZID=America/Chicago:20260426T150000
DTEND;TZID=America/Chicago:20260426T180000
DTSTAMP:20260421T035025
CREATED:20260331T144930Z
LAST-MODIFIED:20260331T214621Z
UID:47130-1777215600-1777226400@dfw501c.com
SUMMARY:🕹️ Chip In Fore Hope 2026: Level Up! ⛳
DESCRIPTION:Every Level Counts. \nJoin Dallas Hope Charities for a reimagined afternoon of play and purpose! This year\, we are taking our signature fundraiser to the next level by transforming the traditional golf tournament into a gaming-inclusive experience. Whether you’re a pro on the green or a legend in the arcade\, there is a place for you to play and provide hope for LGBTQIA+ young adults. \n📅 When: Sunday\, April 26\, 2026\n🕒 Time: 3:00 PM – 6:00 PM\n📍 Where: Topgolf Dallas | 8787 Park Lane\, Dallas\, TX 75231 \nThe Experience:\nHigh-Tech Golf: Enjoy Topgolf’s signature technology-driven gameplay\, perfect for all skill levels.\nEvent-Exclusive Retro Arcade Lounge: Step off the green and into our private lounge featuring a curated collection of vintage arcade machines and table hockey—available only to our event guests!\nSilent Auction: Bid on exclusive items and experiences to help us complete the “puzzle” of housing and stability for our residents. \nYour Impact:\nRevenue from every ticket and partnership directly fuels our housing journey—from initial outreach via Hope Street\, to transitional living at the Hope Center\, and finally to independent living through our Finally Home rental assistance program. \n🎟️ Participation & Support Levels:\nAll-Access Pass ($125): Includes both Topgolf play and full access to the Retro Arcade Lounge.\nGamer Pass ($60): Includes access to the private Arcade Lounge featuring vintage arcade games\, digital consoles and more.\nPartnerships: We are currently seeking Community and Corporate Partners to anchor our remaining bays. Choose from our Ace\, Eagle (Gaming)\, Birdie (Bar)\, or Par (Food) support levels to showcase your commitment to “Hope for All.” \nDon’t miss your chance to be the “missing piece” our community needs. Let’s make this a high-score year for Hope! \n🔗 Level Up & Get Involved: dallashopecharities.org/chipinforehope/\n#ChipInForeHope2026 #LevelUp #DallasHopeCharities #HopeForAll #TopgolfDallas #GamingForGood #LGBTQSupport
URL:https://dfw501c.com/event/%f0%9f%95%b9%ef%b8%8f-chip-in-fore-hope-2026-level-up-%e2%9b%b3/
LOCATION:Topgolf Dallas\, 8787 Park Ln\, Dallas\, 75231
CATEGORIES:Fundraisers
ORGANIZER;CN="Dallas Hope Charities":MAILTO:hope@dallashopecharities.org
END:VEVENT
BEGIN:VEVENT
DTSTART;TZID=America/Chicago:20260426T180000
DTEND;TZID=America/Chicago:20260426T200000
DTSTAMP:20260421T035025
CREATED:20260420T214348Z
LAST-MODIFIED:20260420T214348Z
UID:47676-1777226400-1777233600@dfw501c.com
SUMMARY:Bits & Bites Food Festival at the Dallas Arboretum
DESCRIPTION:Dallas College Foundation hosts Bits & Bites on Sunday\, April 26\, 2026\, from 6:00–8:00 p.m. (VIP 5:15 p.m.) at the Dallas Arboretum and Botanical Garden. The culinary festival features 35+ top Dallas chefs\, including standouts like Dean Fearing\, Abraham Salum and Nikky Phinyawatana\, alongside Dallas College students serving signature tastings\, beverages and live demos. The event honors Steve DeShazo. Tickets are $95\, benefiting scholarships and workforce training programs. Tickets are available at: https://foundation.dallascollege.edu/bitsandbites/tickets/
URL:https://dfw501c.com/event/bits-bites-food-festival-at-the-dallas-arboretum/
LOCATION:Dallas Arboretum and Botanical Garden\, 8525 Garland Rd\, Dallas\, 75218
CATEGORIES:Fundraisers
ORGANIZER;CN="Dallas College Foundation":MAILTO:foundation@dallascollege.edu
END:VEVENT
BEGIN:VEVENT
DTSTART;TZID=America/Chicago:20260428T173000
DTEND;TZID=America/Chicago:20260428T200000
DTSTAMP:20260421T035025
CREATED:20260420T214522Z
LAST-MODIFIED:20260420T214522Z
UID:47666-1777397400-1777406400@dfw501c.com
SUMMARY:Texas Womens University - BALANCE: A Perimenopause Journey - Screening
DESCRIPTION:A new docuseries produced by a North Texas researcher and Texas Woman’s University alumna is helping bring\nlong-overdue visibility to perimenopause—an experience that affects every woman\, yet historically receives\nlimited attention in research\, education and public conversation.\nTexas Woman’s will host a series of free public screenings of BALANCE: A Perimenopause Journey across its\ncampuses in Denton\, Dallas and Houston this spring\, each followed by a panel discussion and audience Q&A\nfeaturing experts in women’s health. View the BALANCE trailer.\nMonks don’t typically come to mind when talking about menopause. But in BALANCE\, filmmakers Sadhvi Siddhali\nShree and Sadhvi Anubhuti—millennial Jain monks based in North Texas—set out to better understand their\nown experiences with perimenopause\, thus launching a journey that uncovers a broader story about the origins of\nmenopause misinformation\, gaps in women’s midlife care\, and the need for more open\, informed conversations.\nProduced by researcher\, advocate and TWU alumna Stephanie Collins\, the four-part docuseries blends personal\nstorytelling with expert insight\, exploring symptoms such as anxiety\, insomnia and fatigue\, while examining the\nhistorical and cultural factors that have shaped how menopause is understood and treated. The series is currently\nstreaming on Amazon Prime Video and Apple TV\, and has drawn national attention and support from high-profile\nhealth care experts and Alyssa Milano\, who serves as an executive producer.\nA highlight of each TWU event will be a panel discussion and audience Q&A moderated by Collins\, which will\noffer an intriguing opportunity for a post-viewing conversation and extended dialogue about women’s health.\nJoining the conversation will be Dr. Sarah Berg\, a nationally-noted obstetrician-gynecologist and Menopause\nSociety Certified Practitioner who specializes in midlife women’s health and advances menopause education\nthrough speaking\, writing and digital learning initiatives\, including Selfority\, a menopause information platform.\n“Menopause is something every woman will experience\, yet for centuries it’s been pushed into the shadows\,”\nCollins said. “I’m proud to be part of the growing dialogue bringing this issue into the light and the effort to help\nwomen better understand their options. As a TWU alumna\, it’s especially meaningful to bring BALANCE to my\nown university—an institution committed to the idea that when you educate a woman\, you empower the world. \nThat belief is at the heart of this project\, which is about giving women the knowledge they need to take control of\ntheir menopause journey.”
URL:https://dfw501c.com/event/texas-womens-university-balance-a-perimenopause-journey-screening/
LOCATION:304\, 304 Administration Dr\, Denton\, 76204
CATEGORIES:Fundraisers
ORGANIZER;CN="Texas Woman's University":MAILTO:kquinones@twu.edu
END:VEVENT
BEGIN:VEVENT
DTSTART;TZID=America/Chicago:20260429T160000
DTEND;TZID=America/Chicago:20260429T190000
DTSTAMP:20260421T035025
CREATED:20260316T141017Z
LAST-MODIFIED:20260316T141201Z
UID:46755-1777478400-1777489200@dfw501c.com
SUMMARY:Texas Women’s Foundation Leadership Forum & Awards Celebration
DESCRIPTION:Texas Women’s Foundation will present its Leadership Forum & Awards Celebration on Wednesday\, April 29\, 2026\, from 4:00–7:00 p.m. at Moody Performance Hall. The inspiring afternoon brings together community leaders\, advocates and changemakers for professional development\, meaningful dialogue and recognition of outstanding leadership. \nThe event begins with a dynamic Leadership Forum\, where the 2026 award recipients share insights through microlearning sessions and engaging conversations designed to inspire leaders of all ages. The evening continues with an Awards Celebration and cocktail reception honoring the recipients of the Maura Women Helping Women Award and the Young Leader Award\, recognizing individuals whose work advances opportunities and equity for women and families across Texas. \n2026 honorees include Debra Hunter Johnson\, Kimberly Bizor Tolbert\, Margie Aguilar\, Olga Martinez Hickman and Thear Suzuki\, along with Young Leader Award recipients Amanda Valentine and Prisma Y. Garcia. \nThe event is co-chaired by Lynn McBee and Cristal Retana Lule. Proceeds support Texas Women’s Foundation’s research\, advocacy and grantmaking initiatives benefiting Texas women\, their families and their futures. Individual tickets are $399\, and sponsorships start at $600. Buy tickets and learn more about the event at: https://txwf.org/join-us/events/lfac-event/
URL:https://dfw501c.com/event/texas-womens-foundation-leadership-forum-awards-celebration/
LOCATION:Dallas Moody Performance Hall\, 2520 Flora St.\, Dallas\, TX\, 75215
CATEGORIES:Fundraisers
ORGANIZER;CN="Texas Women's Foundation":MAILTO:ksenters@txwf.org
END:VEVENT
BEGIN:VEVENT
DTSTART;TZID=America/Chicago:20260501T090000
DTEND;TZID=America/Chicago:20260502T170000
DTSTAMP:20260421T035025
CREATED:20260420T214047Z
LAST-MODIFIED:20260420T214047Z
UID:47493-1777626000-1777741200@dfw501c.com
SUMMARY:Shineologist Certification
DESCRIPTION:Unpack the research and inspiration behind the SHINE framework. Discover the principles that make self-awareness and community-building essential to leadership. Experience and get facilitator access to the three signature workshops: What’s Your Shine?\, Life Maps\, and Point of Intersection. Learn how to facilitate each and integrate tools like Serentripity™ and DO52™.\nPlease note: The date you select is considered Day One of a two-day certification experience\, typically running from 9:00 AM to 5:00 PM each day. Full participation on both days is required to become a certified Shineologist. Includes: Shineologist jacket\, curriculum access\, and a 3 month House of Shine Academy membership. \nParticipants will also gain access to a growing library of curriculum and tools designed for both self-discovery and community-building. While platforms and formats may vary\, each resource is designed to be adaptable and impactful. We continue to enhance the library to ensure it meets the evolving needs of our facilitators and the communities they serve.
URL:https://dfw501c.com/event/shineologist-certification/
LOCATION:House of Shine\, 334 S. Barton St.\, Grapevine\, T\, 76051\, United States
ORGANIZER;CN="House of Shine":MAILTO:info@houseofshine.com
END:VEVENT
BEGIN:VEVENT
DTSTART;TZID=America/Chicago:20260502T070000
DTEND;TZID=America/Chicago:20260502T120000
DTSTAMP:20260421T035025
CREATED:20260413T164553Z
LAST-MODIFIED:20260413T164553Z
UID:47465-1777705200-1777723200@dfw501c.com
SUMMARY:Men's Wellness Day Dallas - 2026
DESCRIPTION:Dallas\, Don’t Miss It: Free 5K\, Free Health Screenings & Family Fun—All in One Day!\nMen!! “Get Checked Out Before You Get Checked In.”\nDallas\, TX — Ready for a day that’s good for your health and your vibe? The African American Men’s Wellness Agency invites YOU to its FREE 5K Walk\, Free Health Screenings\, and Family Wellness Day on May 2nd at the Martin Luther King Jr. Community Center.\nThis isn’t just a walk—it’s a full-on community experience. Come out for music\, energy\, family-friendly activities\, and life-saving health screenings—all at NO COST. Whether you walk\, cheer\, or just show up\, you’ll leave with more than you came with.\nAnd here’s the real win—you get access to FREE health screenings that could help detect issues early and keep you here longer for the people who matter most.\n“This is about showing up for yourself and your community\,” said Victor Tolbert\, Regional Executive Director. “Bring your friends\, bring your family—and most importantly\, bring the men you love.”\nLet’s be real—you don’t want to hear about this after it’s over. You want to be there.
URL:https://dfw501c.com/event/mens-wellness-day-dallas-2026/
LOCATION:2922 Martin Luther King Jr. Blvd\, Dallas\, TX75215\, 2922 Martin Luther King Jr. Drive\, Dallas\, 75215
CATEGORIES:Sponsored
END:VEVENT
BEGIN:VEVENT
DTSTART;TZID=America/Chicago:20260507T110000
DTEND;TZID=America/Chicago:20260507T130000
DTSTAMP:20260421T035025
CREATED:20260226T154522Z
LAST-MODIFIED:20260226T154711Z
UID:46126-1778151600-1778158800@dfw501c.com
SUMMARY:A Tea of Change
DESCRIPTION:Join CASA of Collin County for A Tea of Change\, an elegant and inspiring afternoon of connection\, empowerment\, and purpose\, all in support of vulnerable children in our community. \nGuests will enjoy a delightful selection of premium teas\, delectable pastries\, and light bites while soaking in an atmosphere of inspiration and philanthropy. Beyond the tea and treats\, this event offers a meaningful opportunity to connect with community leaders\, advocates\, and passionate individuals who are dedicated to making a lasting difference for children who have experienced abuse and neglect. \nEvent Details: \nDate: May 7th\, 2026\nTime: 11:30 AM – 1:30 PM\nLocation: The Flour Mill McKinney – 501 E Virginia St\, McKinney\, TX 75069 \nDress Code: Garden Party Attire \nCome sip\, savor\, and support as we work together to create meaningful change—one cup at a time. \nFor more information about sponsorship opportunities please contact Amanda Gaumer at agaumer@casaofcollincounty.org or 972-665-6315.
URL:https://dfw501c.com/event/a-tea-of-change/
LOCATION:T
ORGANIZER;CN="CASA of Collin County":MAILTO:agaumer@casaofcollincounty.org
END:VEVENT
BEGIN:VEVENT
DTSTART;TZID=America/Chicago:20260508T093000
DTEND;TZID=America/Chicago:20260508T130000
DTSTAMP:20260421T035025
CREATED:20260209T163212Z
LAST-MODIFIED:20260226T155111Z
UID:45839-1778232600-1778245200@dfw501c.com
SUMMARY:2026 Collin County Women's Wellness Experience
DESCRIPTION:Dr. Jessica Shepherd to Headline “Rise and Thrive\,” a Women’s Wellness Experience in Plano \nEnjoy a delicious and nutritious brunch while exploring interactive wellness activities. From hands-only CPR education to wellness stations designed to inform and inspire\, this is your chance to learn life-saving skills and discover new ways to prioritize your health. \nEase into your athleisure wear and join the American Heart Association for COLLIN COUNTY’S RISE & THRIVE – a vibrant morning of movement\, mindfulness\, and heart health as we rally Collin County around women’s wellness and community impact. Featured speaker: Jessica Shepherd\, MD\, MBS\, FACOG\, a leading voice in women’s wellness and longevity. She’s helping women cut through the noise and take control of their health and feel their best at every stage of life. \nLet’s rise. Let’s thrive. Let’s do it together.
URL:https://dfw501c.com/event/2026-collin-county-womens-wellness-experience/
LOCATION:Renaissance Dallas at Plano Legacy West Hotel\, 6007 Legacy Drive\, Plano\, 75024
CATEGORIES:Fundraisers,Sponsored
ORGANIZER;CN="American Heart Association":MAILTO:brooke.berryman@heart.org
END:VEVENT
BEGIN:VEVENT
DTSTART;TZID=America/Chicago:20260514T183000
DTEND;TZID=America/Chicago:20260514T230000
DTSTAMP:20260421T035025
CREATED:20260407T195503Z
LAST-MODIFIED:20260407T195503Z
UID:47288-1778783400-1778799600@dfw501c.com
SUMMARY:14th Annual Eric Nadel Birthday Benefit
DESCRIPTION:The 14th Annual Eric Nadel Birthday Benefit returns Thursday\, May 14\, 2026\, celebrating the 75th birthday of Texas Rangers Hall of Fame broadcaster Eric Nadel with an electrifying night of music\, community and philanthropy at the historic Longhorn Ballroom (216 Corinth St.\, Dallas\, TX 75207). \nDoors open at 6:30 p.m.\, followed by performances from Chuck Prophet and His Cumbia Shoes at 7:30 p.m. and Sammy Rae & The Friends at 9:20 p.m. The annual concert also features live and silent auctions\, offering exclusive items such as autographed sports memorabilia and unique dining experiences at beloved Dallas restaurants. \nPresented by Haynes Boone with media sponsor KXT 91.7\, the birthday benefit supports Grant Halliburton Foundation\, a Dallas nonprofit celebrating its 20th anniversary in 2026. The organization provides vital mental health education\, resources and suicide prevention programs for children\, teens and families across North Texas. \nThe silent auction opens online May 7\, allowing supporters to participate even if they cannot attend the concert. Tickets range from $20–$70\, and sponsorships with premium seating are available. Learn more at: https://www.granthalliburton.org/ericnadel
URL:https://dfw501c.com/event/14th-annual-eric-nadel-birthday-benefit/
LOCATION:Longhorn Ballroom\, 216 Corinth St.\, Dallas\, 75207
CATEGORIES:Fundraisers
END:VEVENT
BEGIN:VEVENT
DTSTART;TZID=America/Chicago:20260515T190000
DTEND;TZID=America/Chicago:20260515T220000
DTSTAMP:20260421T035025
CREATED:20260420T214258Z
LAST-MODIFIED:20260420T214258Z
UID:47511-1778871600-1778882400@dfw501c.com
SUMMARY:Forty & Forward: 40th Anniversary Celebration for Prism Health North Texas
DESCRIPTION:Prism Health North Texas is proud to present Forty & Forward\, a high-energy\, cocktail-style celebration\, recognizing 40 years of impact. Filled with music\, movement\, and moments that matter\, the milestone event brings together civic leaders\, changemakers\, partners\, and advocates for accessible healthcare in an electric and meaningful evening. Tickets include bites\, cocktails\, and valet parking. \nAttendees help power the future of healthcare in North Texas by supporting care for individuals and families who need it most\, programs to prevent chronic illness and save lives\, and a future where everyone\, no matter where they are\, can be healthy. Individual tickets and sponsorships are available on phntx40.org/.
URL:https://dfw501c.com/event/forty-forward-40th-anniversary-celebration-for-prism-health-north-texas/
LOCATION:The Empire Room\, 1225 N. Riverfront Blvd.\, Dallas\, TX\, 75207\, United States
CATEGORIES:Fundraisers
ORGANIZER;CN="Prism Health North Texas":MAILTO:Tri.truong@prismntx.org
END:VEVENT
BEGIN:VEVENT
DTSTART;TZID=America/Chicago:20260516T080000
DTEND;TZID=America/Chicago:20260516T120000
DTSTAMP:20260421T035025
CREATED:20260413T164300Z
LAST-MODIFIED:20260413T164300Z
UID:47421-1778918400-1778932800@dfw501c.com
SUMMARY:Rooted in Strength
DESCRIPTION:Back to our Roots Wellness Summit\nThis year’s theme\, “Rooted in Strength\,” invites us to explore cultural healing practices that honor the traditions\, resilience\, and wisdom within our communities. Through engaging conversations and live demonstrations\, we will experience practices that highlight the power of culture in healing and collective care.
URL:https://dfw501c.com/event/rooted-in-strength-2/
LOCATION:369 W. Jefferson Blvd.\, Dallas\, TX 75208\, 369 W. Jefferson Blvd.\, Dallas\, TX\, 75208\, United States
CATEGORIES:CEU's Offered - Trainings,Fundraisers
ORGANIZER;CN="Cannenta Foundation":MAILTO:beatriz@cannentacenter.com
END:VEVENT
BEGIN:VEVENT
DTSTART;TZID=America/Chicago:20260516T090000
DTEND;TZID=America/Chicago:20260516T120000
DTSTAMP:20260421T035025
CREATED:20260410T150345Z
LAST-MODIFIED:20260410T150345Z
UID:47390-1778922000-1778932800@dfw501c.com
SUMMARY:Rooted in Strength
DESCRIPTION:Back to our Roots Wellness Summit\nThis year’s theme\, “Rooted in Strength\,” invites us to explore cultural healing practices that honor the traditions\, resilience\, and wisdom within our communities. Through engaging conversations and live demonstrations\, we will experience practices that highlight the power of culture in healing and collective care.
URL:https://dfw501c.com/event/rooted-in-strength/
LOCATION:369 W. Jefferson Blvd.\, Dallas\, TX 75208\, 369 W. Jefferson Blvd.\, Dallas\, TX\, 75208\, United States
CATEGORIES:CEU's Offered - Trainings,Fundraisers
END:VEVENT
BEGIN:VEVENT
DTSTART;TZID=America/Chicago:20260518T113000
DTEND;TZID=America/Chicago:20260518T130000
DTSTAMP:20260421T035025
CREATED:20260323T212058Z
LAST-MODIFIED:20260323T212058Z
UID:46935-1779103800-1779109200@dfw501c.com
SUMMARY:ScholarShot Annual Graduate Luncheon
DESCRIPTION:Join ScholarShot to celebrate this year’s first-generation college graduates. ScholarShot is empowering first-generation students to achieve career-ready certificates or degrees to strengthen the Texas workforce and improve institutional outcomes.
URL:https://dfw501c.com/event/scholarshot-annual-graduate-luncheon/
LOCATION:The Hall on Dragon\, Design District\, 1500 Dragon Street\, Dallas\, 75207
CATEGORIES:Fundraisers
ORGANIZER;CN="ScholarShot":MAILTO:kenyas@scholarshot.org
END:VEVENT
BEGIN:VEVENT
DTSTART;TZID=America/Chicago:20260530T120000
DTEND;TZID=America/Chicago:20260530T140000
DTSTAMP:20260421T035025
CREATED:20260123T205139Z
LAST-MODIFIED:20260226T155311Z
UID:44871-1780142400-1780149600@dfw501c.com
SUMMARY:This Too Shall Pass Banquet
DESCRIPTION:This is a fundraiser for cancer patients and to honor those who are currently fighting or have fought the battle with cancer. The proceeds will go to the Susan G. Komen for the Cure foundation.
URL:https://dfw501c.com/event/this-too-shall-pass-banquet/
LOCATION:Houston Marriott South @ Hobby Airport\, 9100 Gulf Fwy\, Houston\, 77017
CATEGORIES:Fundraisers
ORGANIZER;CN="Upward Bound Ministries%2C Inc.":MAILTO:admin@thedreamctr.org
END:VEVENT
BEGIN:VEVENT
DTSTART;TZID=America/Chicago:20260608T080000
DTEND;TZID=America/Chicago:20260608T120000
DTSTAMP:20260421T035025
CREATED:20260402T170752Z
LAST-MODIFIED:20260420T214128Z
UID:47207-1780905600-1780920000@dfw501c.com
SUMMARY:Cliff Harris Golf Tournament Benefitting Breakthrough T1D
DESCRIPTION:Breakthrough T1D will host the 2026 Cliff Harris Golf Tournament on Monday\, June 8\, 2026\, beginning at 8:00 a.m. at Stonebriar Country Club. The annual charity tournament brings together community leaders\, supporters and athletes for a day of golf and philanthropy benefiting research to cure\, prevent and treat type 1 diabetes. \nThe event is led by Cliff Harris\, Pro Football Hall of Fame inductee and Dallas Cowboys Ring of Honor member. Harris has long been dedicated to the mission of Breakthrough T1D after living with the challenges of type 1 diabetes and losing his father to the disease. Tournament participants enjoy a day on the course while helping advance research breakthroughs that improve the lives of those affected by T1D. \nSponsorship opportunities start at $2\,000\, with foursome sponsorships beginning at $7\,500. For more information or to register\, visit breakthrought1d.org.
URL:https://dfw501c.com/event/cliff-harris-golf-tournament-benefitting-breakthrough-t1d/
LOCATION:Stonebriar Country Club\, 5050 Country Club\, Frisco\, 75034
CATEGORIES:Fundraisers
END:VEVENT
BEGIN:VEVENT
DTSTART;TZID=America/Chicago:20260611T083000
DTEND;TZID=America/Chicago:20260611T150000
DTSTAMP:20260421T035025
CREATED:20260312T202446Z
LAST-MODIFIED:20260312T202626Z
UID:46706-1781166600-1781190000@dfw501c.com
SUMMARY:Nonprofit Leadership Institute
DESCRIPTION:This comprehensive seminar is designed specifically for nonprofit program directors\, managers\, and board members who are seeking to enhance their leadership capabilities. The sessions will focus on key skills and strategies that are critical for leading nonprofit organizations\, empowering leaders to drive their missions forward with confidence and effectiveness.
URL:https://dfw501c.com/event/nonprofit-leadership-institute/
LOCATION:Kathryn Wilemon Lakehouse Event Center\, 6021 W Arkansas Ln\, Arlington\, 76016
CATEGORIES:Trainings
ORGANIZER;CN="North Texas Nonprofit Institute":MAILTO:ntxnpifrontdesk@outlook.com
END:VEVENT
BEGIN:VEVENT
DTSTART;TZID=America/Chicago:20260926T190000
DTEND;TZID=America/Chicago:20260926T233000
DTSTAMP:20260421T035025
CREATED:20251211T193447Z
LAST-MODIFIED:20260311T154443Z
UID:44199-1790449200-1790465400@dfw501c.com
SUMMARY:Dallas Contemporary Annual Gala
DESCRIPTION:Dallas Contemporary proudly hosts their annual gala—a festive evening that raises vital operating funds for the museum. \nDallas Contemporary is a non-collecting arts space\, a kunsthalle\, with the mission to present the forefront of contemporary artistic practice and artistic production through exhibitions\, performances\, and public programs in order to advance the discovery and appreciation of the art of this moment.
URL:https://dfw501c.com/event/dallas-contemporary-annual-gala/
LOCATION:Dallas Contemporary\, 161 Glass St\, Dallas\, TX\, 75207\, United States
END:VEVENT
BEGIN:VEVENT
DTSTART;TZID=America/Chicago:20261014T080000
DTEND;TZID=America/Chicago:20261014T120000
DTSTAMP:20260421T035025
CREATED:20260305T194317Z
LAST-MODIFIED:20260305T194317Z
UID:46469-1791964800-1791979200@dfw501c.com
SUMMARY:Walk to End Alzheimer's - Arlington
DESCRIPTION:The Alzheimer’s Association Walk to End Alzheimer’s® is the world’s largest event to raise awareness and funds for Alzheimer’s care\, support\, and research\, held annually in over 600 communities. Its mission is to eliminate Alzheimer’s disease through research\, provide support for all affected\, and enable community members to join the fight.
URL:https://dfw501c.com/event/walk-to-end-alzheimers-arlington/
LOCATION:T
CATEGORIES:Fundraisers,Sponsored
END:VEVENT
END:VCALENDAR