BEGIN:VCALENDAR
VERSION:2.0
PRODID:-//Dallas Fort Worth Nonprofit Business Journal - ECPv6.15.20//NONSGML v1.0//EN
CALSCALE:GREGORIAN
METHOD:PUBLISH
X-WR-CALNAME:Dallas Fort Worth Nonprofit Business Journal
X-ORIGINAL-URL:https://dfw501c.com
X-WR-CALDESC:Events for Dallas Fort Worth Nonprofit Business Journal
REFRESH-INTERVAL;VALUE=DURATION:PT1H
X-Robots-Tag:noindex
X-PUBLISHED-TTL:PT1H
BEGIN:VTIMEZONE
TZID:America/Chicago
BEGIN:DAYLIGHT
TZOFFSETFROM:-0600
TZOFFSETTO:-0500
TZNAME:CDT
DTSTART:20250309T080000
END:DAYLIGHT
BEGIN:STANDARD
TZOFFSETFROM:-0500
TZOFFSETTO:-0600
TZNAME:CST
DTSTART:20251102T070000
END:STANDARD
BEGIN:DAYLIGHT
TZOFFSETFROM:-0600
TZOFFSETTO:-0500
TZNAME:CDT
DTSTART:20260308T080000
END:DAYLIGHT
BEGIN:STANDARD
TZOFFSETFROM:-0500
TZOFFSETTO:-0600
TZNAME:CST
DTSTART:20261101T070000
END:STANDARD
BEGIN:DAYLIGHT
TZOFFSETFROM:-0600
TZOFFSETTO:-0500
TZNAME:CDT
DTSTART:20270314T080000
END:DAYLIGHT
BEGIN:STANDARD
TZOFFSETFROM:-0500
TZOFFSETTO:-0600
TZNAME:CST
DTSTART:20271107T070000
END:STANDARD
END:VTIMEZONE
BEGIN:VEVENT
DTSTART;TZID=America/Chicago:20260305T085500
DTEND;TZID=America/Chicago:20260305T103000
DTSTAMP:20260425T210052
CREATED:20260217T162510Z
LAST-MODIFIED:20260217T162510Z
UID:46051-1772700900-1772706600@dfw501c.com
SUMMARY:Rise & Shine Season 11
DESCRIPTION:Hello! \nStart your morning with purpose—join a community of women who believe in living boldly and shining brightly. \nSeason 11 of Rise & Shine is here—and this year\, we’re adding a twist. Whether you’re brand new or a longtime attendee\, you’ll love how we’re keeping things fresh while staying true to what matters most: meaningful connection\, personal growth\, and a vibrant community of women. \nGather in small\, welcoming groups as you engage in rich\, inspiring conversations designed to spark insight\, laughter\, and friendship. It’s everything you’ve come to love—now with even more intention\, surprise\, and magic. \nName of Event\nRise & Shine Season 11 \nDates / Times\nMarch 5\, 2026 • 8:55 AM – 10:30 AM (Thursday) \nLocation\nThe Vine Arts & Events Center\n225 West Worth Street\nGrapevine 76051 \nEvent Description\nRise & Shine is a morning gathering designed to help women connect\, reflect\, and grow together. Each session creates space for thoughtful conversation\, encouragement\, and the kind of community that reminds you you’re not meant to do life alone. \nSeason 11 brings a fresh approach—new elements woven into the experience—while keeping the heart of Rise & Shine the same: connection\, growth\, and a welcoming room full of women cheering one another on. \nWhat to Expect\nWarm welcome + community connection \nSmall-group conversations that spark insight and reflection \nMeaningful prompts designed to encourage personal growth \nLaughter\, encouragement\, and fresh perspective to carry into your day \nA few surprise touches that make Season 11 extra special \nSession Flow\nNo prep work required—just arrive as you are and ready to connect. \nEvent Link\nEventbrite: https://www.eventbrite.com/e/1602926378949?aff=oddtdtcreator \nStarting and Ending Time for Each Day\n8:55 AM – 10:30 AM \nCost\nSee registration page for current pricing. \nAge Guidelines\nAdults (18+) \nContact for More Information\nPhone: 817-601-8850\nEmail: info@houseofshine.com \nWarmly\,\nHouse of Shine\n817-601-8850\ninfo@houseofshine.com\nwww.houseofshine.org
URL:https://dfw501c.com/event/rise-shine-season-11-2/
LOCATION:House of Shine\, 334 S. Barton St.\, Grapevine\, T\, 76051\, United States
ORGANIZER;CN="House of Shine":MAILTO:info@houseofshine.com
END:VEVENT
BEGIN:VEVENT
DTSTART;TZID=America/Chicago:20260305T085500
DTEND;TZID=America/Chicago:20260305T103000
DTSTAMP:20260425T210052
CREATED:20260217T162717Z
LAST-MODIFIED:20260217T162717Z
UID:46057-1772700900-1772706600@dfw501c.com
SUMMARY:Seize the Clay Workshop: Create a Pinch Pot and Spark Community Change
DESCRIPTION:Hello! \nAre you looking for a fun activity with your family or friends—with a philanthropic ingredient? \nJoin us for Seize the Clay\, a hands-on workshop where one of House of Shine’s enthusiastic instructors will guide you in creating your own pottery pinch pot. \nBONUS: Your pinch pot becomes more than a keepsake—it becomes a vessel for giving. You’ll use it to collect change that you can ultimately donate to a local “changemaker” with an idea to improve our community. \nName of Event\nSeize the Clay Workshop \nDates / Times\nMarch 7\, 2026 • 3:00 PM – 4:00 PM (Saturday)\nLocation\nHouse of Shine\n334 S. Barton Street\nGrapevine\, TX 76051 \nEvent Description\nIn this workshop\, you’ll create a pottery pinch pot—then turn it into a meaningful tool for impact. \nYour Pinch Pot = A Change Vessel\nYour creatively-designed pinch pot will become the vessel that collects change that you ultimately donate to a “changemaker” who has an idea to improve our community. \nIdeas will be shared at the Change Bowl community event on April 4\, 2026—think Shark Tank meets community improvement projects. Local students (ages 8–18) will submit applications and pitch their ideas\, and community members will serve as judges to select the top community service projects. \nPick-Up Option (Firing + Glazing Time)\nThis workshop requires additional time for firing and glazing. You can: \nPick up your creation 3 weeks later at House of Shine\, or \nPass it forward and leave with a finished pinch pot made by a previous attendee \nEvent Link\nEventbrite: https://www.eventbrite.com/e/seize-the-clay-workshop-tickets-464538867257?aff=oddtdtcreator \nStarting and Ending Time for Each Day\n3:00 PM – 4:00 PM \nCost\nSee registration page for current pricing. \nAge Guidelines\nGreat for families and friends (see Eventbrite for any specific age notes). \nContact for More Information\nPhone: 817-601-8850\nEmail: info@houseofshine.com \nWarmly\,\nHouse of Shine\n817-601-8850\ninfo@houseofshine.com\nwww.houseofshine.org
URL:https://dfw501c.com/event/seize-the-clay-workshop-create-a-pinch-pot-and-spark-community-change-2/
LOCATION:House of Shine\, 334 S. Barton St.\, Grapevine\, T\, 76051\, United States
ORGANIZER;CN="House of Shine":MAILTO:info@houseofshine.com
END:VEVENT
BEGIN:VEVENT
DTSTART;TZID=America/Chicago:20260305T163000
DTEND;TZID=America/Chicago:20260305T183000
DTSTAMP:20260425T210052
CREATED:20260210T214014Z
LAST-MODIFIED:20260226T160242Z
UID:45785-1772728200-1772735400@dfw501c.com
SUMMARY:Volunteer Weekdays: Drop In\, Pitch In\, and Spread Shine
DESCRIPTION:Hello! \nDo you appreciate a Shine moment? We knew it—we do too. \nWhen you volunteer with House of Shine\, you impact our community by helping us spread happiness\, kindness\, positivity\, and SHINE. Whether you have one hour or an entire afternoon\, we’ll take it—any of it and all of it. \nSimply register once\, show up\, and stay as long as you’d like. \nName of Event\nVolunteer Weekdays \nDates / Times\nMarch 5\, 2026 • 4:30 PM – 6:30 PM\nMarch 12\, 2026 • 4:30 PM – 6:30 PM\nMarch 19\, 2026 • 4:30 PM – 6:30 PM\nMarch 26\, 2026 • 4:30 PM – 6:30 PM\n(Every Thursday) \nLocation\nHouse of Shine\n334 S. Barton Street\nGrapevine\, TX 76051 \nEvent Description\nVolunteer Weekdays are a simple\, feel-good way to get connected and make a meaningful difference—right here at House of Shine. \nFrom the front of the House to the back\, volunteers make their mark on us and our clients and visitors. And fun fact: volunteers become a community of their own—we often hear how people meet like-minded friends while volunteering here. \nWhy volunteer at House of Shine?\nIt’s creative \nIt feels good \nYou’ll get connected to our happy\, positive community and culture \nIt can satisfy volunteer requirements \nYou can build leadership\, communication\, and time management skills \nYou can discover more about your purpose \nYou can show up as a healthy human and help others lead healthy/joyful lives \nYou can connect with yourself and others \nYou can spread Shine (duh) \nYou can make people feel valued—and feel valued\, too \nIt’s uplifting\, positive energy with kind\, like-minded people \nYou’re joining a movement \nEvent Link\nEventbrite: https://www.eventbrite.com/e/1979536747700?aff=oddtdtcreator \nStarting and Ending Time for Each Day\n4:30 PM – 6:30 PM (for each listed date) \nCost\nFree. Registration is required via the Eventbrite link above. \nAge Guidelines\nStudent volunteer opportunities are available for students in middle school and above. \nContact for More Information\nIf the available opportunities don’t work for you—or if you have a group of 10+—please contact our Volunteer Coordinator: \nLori (Volunteer Coordinator): lori@houseofshine.com \nPhone: 817-601-8850\nEmail: info@houseofshine.com \nWarmly\,\nHouse of Shine\n817-601-8850\ninfo@houseofshine.com\nwww.houseofshine.org
URL:https://dfw501c.com/event/volunteer-weekdays-drop-in-pitch-in-and-spread-shine-2/
LOCATION:House of Shine\, 334 S. Barton St.\, Grapevine\, T\, 76051\, United States
ORGANIZER;CN="House of Shine":MAILTO:info@houseofshine.com
END:VEVENT
END:VCALENDAR